BEGIN:VCALENDAR
VERSION:2.0
PRODID:-//hacksw/handcal//NONSGML v1.0//EN
CALSCALE:GREGORIAN
BEGIN:VEVENT
SUMMARY:Ipuin kontaketa: AZARITUNBOKO ZULOAN
LOCATION:Liburutegia
DTSTART:20241009T161500Z
DESCRIPTION:
URL;VALUE=URI:http://lezo.eus/eu/node/104248
DTSTAMP:20260424T193318Z
UID:69eba95eeb68b
END:VEVENT
END:VCALENDAR