BEGIN:VCALENDAR
VERSION:2.0
PRODID:-//hacksw/handcal//NONSGML v1.0//EN
CALSCALE:GREGORIAN
BEGIN:VEVENT
SUMMARY:Ipuin kontaketa: UDABERRIKO HAZIAK
LOCATION:Liburutegia
DTSTART:20260520T161500Z
DESCRIPTION:
URL;VALUE=URI:http://lezo.eus/eu/node/105045
DTSTAMP:20260421T054725Z
UID:69e6f34d7bd71
END:VEVENT
END:VCALENDAR