BEGIN:VCALENDAR
VERSION:2.0
PRODID:-//hacksw/handcal//NONSGML v1.0//EN
CALSCALE:GREGORIAN
BEGIN:VEVENT
SUMMARY:Literatura solasaldia: LEONORA (Elena Poniatowska)
LOCATION:Liburutegia
DTSTART:20230124T173000Z
DESCRIPTION:
URL;VALUE=URI:http://lezo.eus/eu/agenda/literatura-solasaldia-leonora-elena-poniatowska
DTSTAMP:20260424T001625Z
UID:69ea9a39e9acf
END:VEVENT
END:VCALENDAR