BEGIN:VCALENDAR
VERSION:2.0
PRODID:-//hacksw/handcal//NONSGML v1.0//EN
CALSCALE:GREGORIAN
BEGIN:VEVENT
SUMMARY:Ipuin kontaketa: UDABERRIKO ISTORIOAK
LOCATION:Liburutegia
DTSTART:20260506T161500Z
DESCRIPTION:
URL;VALUE=URI:http://lezo.eus/eu/node/105043
DTSTAMP:20260421T032335Z
UID:69e6d1971eba8
END:VEVENT
END:VCALENDAR