BEGIN:VCALENDAR
VERSION:2.0
PRODID:-//hacksw/handcal//NONSGML v1.0//EN
CALSCALE:GREGORIAN
BEGIN:VEVENT
SUMMARY:Ipuin kontaketa: ARRAINA ETA LIMOIA
LOCATION:Liburutegia
DTSTART:20260513T161500Z
DESCRIPTION:
URL;VALUE=URI:http://lezo.eus/eu/node/105044
DTSTAMP:20260420T221457Z
UID:69e68941e1e8f
END:VEVENT
END:VCALENDAR