BEGIN:VCALENDAR
VERSION:2.0
PRODID:-//hacksw/handcal//NONSGML v1.0//EN
CALSCALE:GREGORIAN
BEGIN:VEVENT
SUMMARY:Literatura solasaldia: MI AÑO DE DESCANSO Y RELAJACIÓN (Ottessa Moshfegh)
LOCATION:Liburutegia
DTSTART:20230601T163000Z
DESCRIPTION:
URL;VALUE=URI:http://lezo.eus/index.php/eu/agenda/literatura-solasaldia-mi-ano-de-descanso-y-relajacion-ottessa-moshfegh
DTSTAMP:20260421T111753Z
UID:69e740c1f1287
END:VEVENT
END:VCALENDAR