BEGIN:VCALENDAR
VERSION:2.0
PRODID:-//hacksw/handcal//NONSGML v1.0//EN
CALSCALE:GREGORIAN
BEGIN:VEVENT
SUMMARY:PIRATA ARRATOIA
LOCATION:Gezala Auditoriuma
DTSTART:20200118T160000Z
DESCRIPTION:
URL;VALUE=URI:https://lezo.eus/eu/agenda/pirata-arratoia
DTSTAMP:20260420T014612Z
UID:69e56944e917b
END:VEVENT
END:VCALENDAR