BEGIN:VCALENDAR
VERSION:2.0
PRODID:-//hacksw/handcal//NONSGML v1.0//EN
CALSCALE:GREGORIAN
BEGIN:VEVENT
SUMMARY:Ikimilikiliklik
LOCATION:Lezo Herri Eskolako patioa
DTSTART:20200925T180000Z
DESCRIPTION:
URL;VALUE=URI:https://lezo.eus/eu/agenda/ikimilikiliklik-0
DTSTAMP:20260419T185042Z
UID:69e507e2bd6a1
END:VEVENT
END:VCALENDAR