BEGIN:VCALENDAR
VERSION:2.0
PRODID:-//hacksw/handcal//NONSGML v1.0//EN
CALSCALE:GREGORIAN
BEGIN:VEVENT
SUMMARY:Igel euria
LOCATION:Gezala Auditoriuma
DTSTART:20210307T183000Z
DESCRIPTION:
URL;VALUE=URI:https://lezo.eus/eu/agenda/igel-euria
DTSTAMP:20260419T221430Z
UID:69e537a6c5cad
END:VEVENT
END:VCALENDAR