BEGIN:VCALENDAR
VERSION:2.0
PRODID:-//hacksw/handcal//NONSGML v1.0//EN
CALSCALE:GREGORIAN
BEGIN:VEVENT
SUMMARY:Bihurri\, jauretxetik kale gorrira
LOCATION:Gezala Auditoriuma
DTSTART:20210605T143000Z
DESCRIPTION:
URL;VALUE=URI:https://lezo.eus/eu/agenda/bihurri-jauretxetik-kale-gorrira
DTSTAMP:20260419T234000Z
UID:69e54bb0c08d4
END:VEVENT
END:VCALENDAR