BEGIN:VCALENDAR
VERSION:2.0
PRODID:-//hacksw/handcal//NONSGML v1.0//EN
CALSCALE:GREGORIAN
BEGIN:VEVENT
SUMMARY:Anne Etchegoyen "Emazte"
LOCATION:Lezo Herri Eskolako patioa
DTSTART:20210828T210000Z
DESCRIPTION:
URL;VALUE=URI:https://lezo.eus/eu/agenda/anne-etchegoyen-emazte
DTSTAMP:20260421T115541Z
UID:69e7499d26b39
END:VEVENT
END:VCALENDAR