BEGIN:VCALENDAR
VERSION:2.0
PRODID:-//hacksw/handcal//NONSGML v1.0//EN
CALSCALE:GREGORIAN
BEGIN:VEVENT
SUMMARY:Los hermanos Machado
LOCATION:Gezala Auditoriuma
DTSTART:20211219T190000Z
DESCRIPTION:
URL;VALUE=URI:https://lezo.eus/eu/agenda/los-hermanos-machado
DTSTAMP:20260420T014603Z
UID:69e5693b14cfc
END:VEVENT
END:VCALENDAR