BEGIN:VCALENDAR
VERSION:2.0
PRODID:-//hacksw/handcal//NONSGML v1.0//EN
CALSCALE:GREGORIAN
BEGIN:VEVENT
SUMMARY:Oliver magoa
LOCATION:Gezala Auditoriuma
DTSTART:20211217T161500Z
DESCRIPTION:
URL;VALUE=URI:https://lezo.eus/eu/agenda/oliver-magoa
DTSTAMP:20260419T221422Z
UID:69e5379e46aaf
END:VEVENT
END:VCALENDAR