BEGIN:VCALENDAR
VERSION:2.0
PRODID:-//hacksw/handcal//NONSGML v1.0//EN
CALSCALE:GREGORIAN
BEGIN:VEVENT
SUMMARY:Tempus
LOCATION:Gezala Auditoriuma
DTSTART:20211126T161500Z
DESCRIPTION:
URL;VALUE=URI:https://lezo.eus/eu/agenda/tempus
DTSTAMP:20260419T221420Z
UID:69e5379c488a7
END:VEVENT
END:VCALENDAR