BEGIN:VCALENDAR
VERSION:2.0
PRODID:-//hacksw/handcal//NONSGML v1.0//EN
CALSCALE:GREGORIAN
BEGIN:VEVENT
SUMMARY:Hiru (3)
LOCATION:Gezala Auditoriuma
DTSTART:20220130T190000Z
DESCRIPTION:
URL;VALUE=URI:https://lezo.eus/eu/agenda/hiru-3
DTSTAMP:20260420T000041Z
UID:69e5508995086
END:VEVENT
END:VCALENDAR