BEGIN:VCALENDAR
VERSION:2.0
PRODID:-//hacksw/handcal//NONSGML v1.0//EN
CALSCALE:GREGORIAN
BEGIN:VEVENT
SUMMARY:Leihoak
LOCATION:Gezala Auditoriuma
DTSTART:20220121T161500Z
DESCRIPTION:
URL;VALUE=URI:https://lezo.eus/eu/agenda/leihoak
DTSTAMP:20260421T132004Z
UID:69e75d641fb64
END:VEVENT
END:VCALENDAR