BEGIN:VCALENDAR
VERSION:2.0
PRODID:-//hacksw/handcal//NONSGML v1.0//EN
CALSCALE:GREGORIAN
BEGIN:VEVENT
SUMMARY:Maña
LOCATION:Lezo Herri Eskolako patioa
DTSTART:20220827T180000Z
DESCRIPTION:
URL;VALUE=URI:https://lezo.eus/eu/agenda/mana
DTSTAMP:20260419T200905Z
UID:69e51a41d30f8
END:VEVENT
END:VCALENDAR