BEGIN:VCALENDAR
VERSION:2.0
PRODID:-//hacksw/handcal//NONSGML v1.0//EN
CALSCALE:GREGORIAN
BEGIN:VEVENT
SUMMARY:Musika taldeen erakustaldia
LOCATION:Lezo Herri Eskolako patioa
DTSTART:20220903T140000Z
DESCRIPTION:
URL;VALUE=URI:https://lezo.eus/eu/agenda/musika-taldeen-erakustaldia
DTSTAMP:20260422T163747Z
UID:69e8dd3b6b74a
END:VEVENT
END:VCALENDAR