BEGIN:VCALENDAR
VERSION:2.0
PRODID:-//hacksw/handcal//NONSGML v1.0//EN
CALSCALE:GREGORIAN
BEGIN:VEVENT
SUMMARY:Elkarrizketak - Emakumeak musika industrian
LOCATION:Gezala Auditoriuma
DTSTART:20221215T180000Z
DESCRIPTION:
URL;VALUE=URI:https://lezo.eus/eu/agenda/elkarrizketak-emakumeak-musika-industrian
DTSTAMP:20260419T143215Z
UID:69e4cb4f9d4bd
END:VEVENT
END:VCALENDAR