BEGIN:VCALENDAR
VERSION:2.0
PRODID:-//hacksw/handcal//NONSGML v1.0//EN
CALSCALE:GREGORIAN
BEGIN:VEVENT
SUMMARY:"Jon Braun"
LOCATION:Gezala Auditoriuma
DTSTART:20181214T173000Z
DESCRIPTION:
URL;VALUE=URI:https://lezo.eus/eu/agenda/jon-braun
DTSTAMP:20260421T145348Z
UID:69e7735cc2917
END:VEVENT
END:VCALENDAR