BEGIN:VCALENDAR
VERSION:2.0
PRODID:-//hacksw/handcal//NONSGML v1.0//EN
CALSCALE:GREGORIAN
BEGIN:VEVENT
SUMMARY:"Kaskarot"
LOCATION:Gezala Auditoriuma
DTSTART:20201009T151500Z
DESCRIPTION:
URL;VALUE=URI:https://lezo.eus/es/agenda/kaskarot-1
DTSTAMP:20260419T141927Z
UID:69e4c84f67fc6
END:VEVENT
END:VCALENDAR