BEGIN:VCALENDAR
VERSION:2.0
PRODID:-//hacksw/handcal//NONSGML v1.0//EN
CALSCALE:GREGORIAN
BEGIN:VEVENT
SUMMARY:Bram Barrabas
LOCATION:Gezala Auditoriuma
DTSTART:20210410T143000Z
DESCRIPTION:
URL;VALUE=URI:https://lezo.eus/eu/agenda/bram-barrabas
DTSTAMP:20260419T221437Z
UID:69e537adc1a55
END:VEVENT
END:VCALENDAR