BEGIN:VCALENDAR
VERSION:2.0
PRODID:-//hacksw/handcal//NONSGML v1.0//EN
CALSCALE:GREGORIAN
BEGIN:VEVENT
SUMMARY:Literatur solasaldia: "LESS"
LOCATION:Liburutegia
DTSTART:20211130T173000Z
DESCRIPTION:
URL;VALUE=URI:https://lezo.eus/eu/agenda/literatur-solasaldia-less
DTSTAMP:20260420T090019Z
UID:69e5cf039e054
END:VEVENT
END:VCALENDAR