BEGIN:VCALENDAR
VERSION:2.0
PRODID:-//hacksw/handcal//NONSGML v1.0//EN
CALSCALE:GREGORIAN
BEGIN:VEVENT
SUMMARY:Zen del Sur "Órbita"
LOCATION:Lezo Herri Eskolako patioa
DTSTART:20210820T210000Z
DESCRIPTION:
URL;VALUE=URI:https://lezo.eus/eu/agenda/zen-del-sur-orbita
DTSTAMP:20260420T063251Z
UID:69e5ac7314a72
END:VEVENT
END:VCALENDAR