BEGIN:VCALENDAR
VERSION:2.0
PRODID:-//hacksw/handcal//NONSGML v1.0//EN
CALSCALE:GREGORIAN
BEGIN:VEVENT
SUMMARY:ETS "Aukera berriak"
LOCATION:Lezo Herri Eskolako patioa
DTSTART:20210911T183000Z
DESCRIPTION:
URL;VALUE=URI:https://lezo.eus/eu/agenda/ets-aukera-berriak
DTSTAMP:20260421T101855Z
UID:69e732ef4b1a2
END:VEVENT
END:VCALENDAR