BEGIN:VCALENDAR
VERSION:2.0
PRODID:-//hacksw/handcal//NONSGML v1.0//EN
CALSCALE:GREGORIAN
BEGIN:VEVENT
SUMMARY:Kottauak
LOCATION:Gezala Auditorium
DTSTART:20210807T180000Z
DESCRIPTION:
URL;VALUE=URI:https://lezo.eus/eu/agenda/kottauak
DTSTAMP:20260420T000915Z
UID:69e5528b28ddc
END:VEVENT
END:VCALENDAR