BEGIN:VCALENDAR
VERSION:2.0
PRODID:-//hacksw/handcal//NONSGML v1.0//EN
CALSCALE:GREGORIAN
BEGIN:VEVENT
SUMMARY:ZETA-ZETA 1 Beñat Urrutia eta Marina Eskisabel
LOCATION:Gezala Auditoriuma
DTSTART:20211021T173000Z
DESCRIPTION:
URL;VALUE=URI:https://lezo.eus/eu/agenda/zeta-zeta-1-benat-urrutia-eta-marina-eskisabel
DTSTAMP:20260419T150209Z
UID:69e4d251ab8cf
END:VEVENT
END:VCALENDAR