BEGIN:VCALENDAR
VERSION:2.0
PRODID:-//hacksw/handcal//NONSGML v1.0//EN
CALSCALE:GREGORIAN
BEGIN:VEVENT
SUMMARY:ZETA-ZETA 3 Oscar Pascual eta Iñigo Rementeria
LOCATION:Gezala Auditoriuma
DTSTART:20211209T183000Z
DESCRIPTION:
URL;VALUE=URI:https://lezo.eus/eu/agenda/zeta-zeta-3-oscar-pascual-eta-inigo-rementeria
DTSTAMP:20260419T150214Z
UID:69e4d256e747f
END:VEVENT
END:VCALENDAR