BEGIN:VCALENDAR
VERSION:2.0
PRODID:-//hacksw/handcal//NONSGML v1.0//EN
CALSCALE:GREGORIAN
BEGIN:VEVENT
SUMMARY:Yerma
LOCATION:Gezala Auditoriuma
DTSTART:20220213T190000Z
DESCRIPTION:
URL;VALUE=URI:https://lezo.eus/eu/agenda/yerma
DTSTAMP:20260419T171543Z
UID:69e4f19fa8ac9
END:VEVENT
END:VCALENDAR