BEGIN:VCALENDAR
VERSION:2.0
PRODID:-//hacksw/handcal//NONSGML v1.0//EN
CALSCALE:GREGORIAN
BEGIN:VEVENT
SUMMARY:"Uno y Trino" liburuaren aurkezpena
LOCATION:Kultura Aretoa
DTSTART:20220527T163000Z
DESCRIPTION:
URL;VALUE=URI:https://lezo.eus/eu/agenda/uno-y-trino-liburuaren-aurkezpena
DTSTAMP:20260419T173109Z
UID:69e4f53d6b934
END:VEVENT
END:VCALENDAR