BEGIN:VCALENDAR
VERSION:2.0
PRODID:-//hacksw/handcal//NONSGML v1.0//EN
CALSCALE:GREGORIAN
BEGIN:VEVENT
SUMMARY:Mikra
LOCATION:Lezo Herri Eskolako patioa
DTSTART:20220820T180000Z
DESCRIPTION:
URL;VALUE=URI:https://lezo.eus/eu/agenda/mikra
DTSTAMP:20260419T235718Z
UID:69e54fbe9e15b
END:VEVENT
END:VCALENDAR