BEGIN:VCALENDAR
VERSION:2.0
PRODID:-//hacksw/handcal//NONSGML v1.0//EN
CALSCALE:GREGORIAN
BEGIN:VEVENT
SUMMARY:La La Love You
LOCATION:
DTSTART:20220731T202500Z
DESCRIPTION:
URL;VALUE=URI:https://lezo.eus/eu/agenda/la-la-love-you
DTSTAMP:20260419T235511Z
UID:69e54f3f4e7ef
END:VEVENT
END:VCALENDAR