BEGIN:VCALENDAR
VERSION:2.0
PRODID:-//hacksw/handcal//NONSGML v1.0//EN
CALSCALE:GREGORIAN
BEGIN:VEVENT
SUMMARY:Burdina
LOCATION:Gezala Auditoriuma
DTSTART:20221204T190000Z
DESCRIPTION:
URL;VALUE=URI:https://lezo.eus/eu/agenda/burdina
DTSTAMP:20260419T221435Z
UID:69e537ab39778
END:VEVENT
END:VCALENDAR