BEGIN:VCALENDAR
VERSION:2.0
PRODID:-//hacksw/handcal//NONSGML v1.0//EN
CALSCALE:GREGORIAN
BEGIN:VEVENT
SUMMARY:Zirriborro
LOCATION:Gezala Auditoriuma
DTSTART:20221216T161500Z
DESCRIPTION:
URL;VALUE=URI:https://lezo.eus/eu/agenda/zirriborro
DTSTAMP:20260419T221422Z
UID:69e5379ec10d8
END:VEVENT
END:VCALENDAR