BEGIN:VCALENDAR
VERSION:2.0
PRODID:-//hacksw/handcal//NONSGML v1.0//EN
CALSCALE:GREGORIAN
BEGIN:VEVENT
SUMMARY:Ipuin kontaketa: OTSOZ OTSO
LOCATION:Liburutegia
DTSTART:20260527T161500Z
DESCRIPTION:
URL;VALUE=URI:https://lezo.eus/eu/node/105046
DTSTAMP:20260422T150149Z
UID:69e8c6bdd52b1
END:VEVENT
END:VCALENDAR