BEGIN:VCALENDAR
VERSION:2.0
PRODID:-//hacksw/handcal//NONSGML v1.0//EN
CALSCALE:GREGORIAN
BEGIN:VEVENT
SUMMARY:GAUEKO HITZAK (Orratx!)
LOCATION:Gezala Auditoriuma
DTSTART:20260613T173000Z
DESCRIPTION:
URL;VALUE=URI:https://lezo.eus/index.php/eu/node/104970
DTSTAMP:20260426T003703Z
UID:69ed420f833e5
END:VEVENT
END:VCALENDAR